BEGIN:VCALENDAR
VERSION:2.0
PRODID:-//Zsidó Kiválóságok Háza - ECPv4.6.16//NONSGML v1.0//EN
CALSCALE:GREGORIAN
METHOD:PUBLISH
X-WR-CALNAME:Zsidó Kiválóságok Háza
X-ORIGINAL-URL:https://www.zsidokivalosagok.hu
X-WR-CALDESC:Events for Zsidó Kiválóságok Háza
BEGIN:VEVENT
DTSTART;TZID=UTC+2:20190316T140000
DTEND;TZID=UTC+2:20190316T160000
DTSTAMP:20260423T104656
CREATED:20190206T111506Z
LAST-MODIFIED:20200109T095207Z
UID:17973-1552744800-1552752000@www.zsidokivalosagok.hu
SUMMARY:A füredi rabbi – Zsidó Kiválóságok Háza belépővel
DESCRIPTION: \nA felújított régi zsinagógából indulva bejárjuk egy klasszikus vidéki zsidó közösség hétköznapjainak útvonalát. Tovább>> \nTalálkozási hely: Zsidó Kiválóságok Háza (ZsKH) recepció (Balatonfüred\, Bajcsy Zsilinszky u. 32.)\nÚtvonal: Bajcsy-Zsilinszky utca – Dózsa György utca – Kossuth Lajos utca – Felső köz – Bajcsy-Zsilinszky utca\nSéta hossza: 1\,5 km\nSéta időtartama: 2 óra\nSéta nehézségi foka: könnyű\nJavasolt öltözet: időjárásnak megfelelő\nParkolás: ZsKH-val szembeni utcai parkolóhelyek\nRészvételi díj: 3900\,-Ft/fő – mely tartalmazza a kiállításra szóló belépőt is – felnőttnek és gyereknek egyaránt. \nONLINE JEGYVÁSÁRLÁS>> \n
URL:https://www.zsidokivalosagok.hu/event/a-furedi-rabbi-zsido-kivalosagok-haza-belepovel/2019-03-16/
ORGANIZER;CN="T%C3%BAraj%C3%B3%2C%20valamint%20a%20Zsid%C3%B3%20Kiv%C3%A1l%C3%B3s%C3%A1gok%20H%C3%A1za":MAILTO:info@turajo.hu
END:VEVENT
END:VCALENDAR