BEGIN:VCALENDAR
VERSION:2.0
PRODID:-//Zsidó Kiválóságok Háza - ECPv4.6.16//NONSGML v1.0//EN
CALSCALE:GREGORIAN
METHOD:PUBLISH
X-WR-CALNAME:Zsidó Kiválóságok Háza
X-ORIGINAL-URL:https://www.zsidokivalosagok.hu
X-WR-CALDESC:Events for Zsidó Kiválóságok Háza
BEGIN:VEVENT
DTSTART;TZID=UTC+2:20190510T100000
DTEND;TZID=UTC+2:20190510T160000
DTSTAMP:20260424T004847
CREATED:20190424T124042Z
LAST-MODIFIED:20190424T124042Z
UID:18134-1557482400-1557504000@www.zsidokivalosagok.hu
SUMMARY:Áramszünet
DESCRIPTION:Kedves látogatóink! \nA mai napon (2019.05.10) a kiállítóhely 16.00 óráig áramszünet miatt zárvatart! \nMegértésüket köszönjük! \n
URL:https://www.zsidokivalosagok.hu/event/aramszunet/
END:VEVENT
END:VCALENDAR