BEGIN:VCALENDAR
VERSION:2.0
PRODID:-//Zsidó Kiválóságok Háza - ECPv4.6.16//NONSGML v1.0//EN
CALSCALE:GREGORIAN
METHOD:PUBLISH
X-WR-CALNAME:Zsidó Kiválóságok Háza
X-ORIGINAL-URL:https://www.zsidokivalosagok.hu
X-WR-CALDESC:Events for Zsidó Kiválóságok Háza
BEGIN:VEVENT
DTSTART;TZID=UTC+2:20190217T180000
DTEND;TZID=UTC+2:20190217T200000
DTSTAMP:20260423T155011
CREATED:20190125T092429Z
LAST-MODIFIED:20190213T085151Z
UID:17941-1550426400-1550433600@www.zsidokivalosagok.hu
SUMMARY:Barbara Streisand\, Robert Redford - Ilyenek voltunk filmvetítés
DESCRIPTION:Sok szeretettel várjuk a kiállításunkra február 14. és 17. közt belépőjegyet váltó látogatóinkat. \n \n
URL:https://www.zsidokivalosagok.hu/event/barbara-streisand-robert-redford-ilyenek-voltunk-filmvetites/
END:VEVENT
END:VCALENDAR