BEGIN:VCALENDAR
VERSION:2.0
PRODID:-//Zsidó Kiválóságok Háza - ECPv4.6.16//NONSGML v1.0//EN
CALSCALE:GREGORIAN
METHOD:PUBLISH
X-WR-CALNAME:Zsidó Kiválóságok Háza
X-ORIGINAL-URL:https://www.zsidokivalosagok.hu
X-WR-CALDESC:Events for Zsidó Kiválóságok Háza
BEGIN:VEVENT
DTSTART;TZID=UTC+2:20190201T190000
DTEND;TZID=UTC+2:20190201T200000
DTSTAMP:20260423T171621
CREATED:20190108T132735Z
LAST-MODIFIED:20190110T134420Z
UID:17899-1549047600-1549051200@www.zsidokivalosagok.hu
SUMMARY:Bergmann Ernő\, Lusztigh Mária - Modern magyar cukrászat
DESCRIPTION: Bergmann Ernő Balatonfüred egyik leghíresebb cukrásza és vendége\, Lusztigh Mária világbajnok cukrász előadása a Cukrászat múltjáról\, jelenéről\, jövőjéről \n \n
URL:https://www.zsidokivalosagok.hu/event/bergmann-erno-lusztigh-maria-a-cukraszat-multja-jelene-jovoje/
END:VEVENT
END:VCALENDAR