BEGIN:VCALENDAR
VERSION:2.0
PRODID:-//Zsidó Kiválóságok Háza - ECPv4.6.16//NONSGML v1.0//EN
CALSCALE:GREGORIAN
METHOD:PUBLISH
X-WR-CALNAME:Zsidó Kiválóságok Háza
X-ORIGINAL-URL:https://www.zsidokivalosagok.hu
X-WR-CALDESC:Events for Zsidó Kiválóságok Háza
BEGIN:VEVENT
DTSTART;TZID=UTC+2:20190809T100000
DTEND;TZID=UTC+2:20190809T180000
DTSTAMP:20260424T080657
CREATED:20190727T134504Z
LAST-MODIFIED:20190727T152802Z
UID:18651-1565344800-1565373600@www.zsidokivalosagok.hu
SUMMARY:Mini Borhét!
DESCRIPTION:A balatonfüredi Borhetek ideje alatt (augusztus 9. – szeptember 1.) sok szeretettel várunk mindenkit kóser borok és más gasztronómiai különlegességek kínálatával.  \n
URL:https://www.zsidokivalosagok.hu/event/borhet-a-zsido-kivalosagok-hazaban/2019-08-09/
END:VEVENT
END:VCALENDAR