BEGIN:VCALENDAR
VERSION:2.0
PRODID:-//Zsidó Kiválóságok Háza - ECPv4.6.16//NONSGML v1.0//EN
CALSCALE:GREGORIAN
METHOD:PUBLISH
X-WR-CALNAME:Zsidó Kiválóságok Háza
X-ORIGINAL-URL:https://www.zsidokivalosagok.hu
X-WR-CALDESC:Events for Zsidó Kiválóságok Háza
BEGIN:VEVENT
DTSTART;TZID=UTC+2:20190421T194500
DTEND;TZID=UTC+2:20190421T210000
DTSTAMP:20260423T154436
CREATED:20190413T093623Z
LAST-MODIFIED:20190414T081910Z
UID:18087-1555875900-1555880400@www.zsidokivalosagok.hu
SUMMARY:Gerendás Péter koncertje
DESCRIPTION:\n\n\nGerendás Péter előadóművész koncertje a Pészahhoz kapcsolódó dalaival. \n\n\n\n\nJegyár: 2500 Ft/fő \nA jegyek a helyszínen kizárólag elővételben\, valamint online vásárolhatók! \n\n\n\n\n\n\n\n\n\n\n\n\n
URL:https://www.zsidokivalosagok.hu/event/gerendas-peter-koncertje/
END:VEVENT
END:VCALENDAR