BEGIN:VCALENDAR
VERSION:2.0
PRODID:-//Zsidó Kiválóságok Háza - ECPv4.6.16//NONSGML v1.0//EN
CALSCALE:GREGORIAN
METHOD:PUBLISH
X-WR-CALNAME:Zsidó Kiválóságok Háza
X-ORIGINAL-URL:https://www.zsidokivalosagok.hu
X-WR-CALDESC:Events for Zsidó Kiválóságok Háza
BEGIN:VEVENT
DTSTART;TZID=UTC+2:20190422T100000
DTEND;TZID=UTC+2:20190422T180000
DTSTAMP:20260423T173307
CREATED:20190414T092855Z
LAST-MODIFIED:20190414T100734Z
UID:18100-1555927200-1555956000@www.zsidokivalosagok.hu
SUMMARY:Húsvéti nyitvatartás
DESCRIPTION:Húsvétkor is várunk minden kedves látogatót 10 és 18 óra között! \n  \n \n
URL:https://www.zsidokivalosagok.hu/event/husveti-nyitvatartas/
END:VEVENT
END:VCALENDAR