BEGIN:VCALENDAR
VERSION:2.0
PRODID:-//Zsidó Kiválóságok Háza - ECPv4.6.16//NONSGML v1.0//EN
CALSCALE:GREGORIAN
METHOD:PUBLISH
X-WR-CALNAME:Zsidó Kiválóságok Háza
X-ORIGINAL-URL:https://www.zsidokivalosagok.hu
X-WR-CALDESC:Events for Zsidó Kiválóságok Háza
BEGIN:VEVENT
DTSTART;VALUE=DATE:20190427
DTEND;VALUE=DATE:20190428
DTSTAMP:20260423T191148
CREATED:20190414T153043Z
LAST-MODIFIED:20190423T141417Z
UID:18106-1556323200-1556409599@www.zsidokivalosagok.hu
SUMMARY:Jókai-bableves főzőverseny miatt ZÁRVA
DESCRIPTION:Kedves Látogatóink! \nEzúton szeretnénk tájékoztatni minden kedves Érdeklődőt\, hogy a ZsKH csapata április 27-én szombaton\, a Koloska-völgyben fog tartózkodni (zsidó) gasztronómiai továbbképzés céljából\, ahova Mindenkit szeretettel várunk egy kis sóletre \nÍgy a látogatóközpont zárva lesz\, de az alábbi telefonszámon  elérnek minket: 0670 505 5923 \nAz év további 364 napján a megszokott nyitvatartási renddel\, keddtől vasárnapig 10 és 18 óra között várunk minden kedves Látogatót! \nKöszönettel\,\nZsidó Kiválóságok Háza csapata \n
URL:https://www.zsidokivalosagok.hu/event/jokai-fozoverseny-modosult-nyitvatartas/
END:VEVENT
END:VCALENDAR