BEGIN:VCALENDAR
VERSION:2.0
PRODID:-//Zsidó Kiválóságok Háza - ECPv4.6.16//NONSGML v1.0//EN
CALSCALE:GREGORIAN
METHOD:PUBLISH
X-WR-CALNAME:Zsidó Kiválóságok Háza
X-ORIGINAL-URL:https://www.zsidokivalosagok.hu
X-WR-CALDESC:Events for Zsidó Kiválóságok Háza
BEGIN:VEVENT
DTSTART;TZID=UTC+2:20190501T100000
DTEND;TZID=UTC+2:20190501T180000
DTSTAMP:20260423T205358
CREATED:20190430T142849Z
LAST-MODIFIED:20190430T142849Z
UID:18141-1556704800-1556733600@www.zsidokivalosagok.hu
SUMMARY:Május 1-jén nyitva tartunk
DESCRIPTION:
URL:https://www.zsidokivalosagok.hu/event/majus-1-jen-nyitva-tartunk/
END:VEVENT
END:VCALENDAR