BEGIN:VCALENDAR
VERSION:2.0
PRODID:-//Zsidó Kiválóságok Háza - ECPv4.6.16//NONSGML v1.0//EN
CALSCALE:GREGORIAN
METHOD:PUBLISH
X-WR-CALNAME:Zsidó Kiválóságok Háza
X-ORIGINAL-URL:https://www.zsidokivalosagok.hu
X-WR-CALDESC:Events for Zsidó Kiválóságok Háza
BEGIN:VEVENT
DTSTART;TZID=UTC+2:20200627T100000
DTEND;TZID=UTC+2:20200627T210000
DTSTAMP:20260424T082038
CREATED:20200623T142654Z
LAST-MODIFIED:20200623T143535Z
UID:19317-1593252000-1593291600@www.zsidokivalosagok.hu
SUMMARY:Múzeumok éjszakája
DESCRIPTION:A múzeumok éjszakáján hosszabbított nyitvatartással\, 20.00 órától pedig kötetlen beszélgetéssel várjuk látogatóinkat. \n \n
URL:https://www.zsidokivalosagok.hu/event/muzeumok-ejszakaja-2/
END:VEVENT
END:VCALENDAR