BEGIN:VCALENDAR
VERSION:2.0
PRODID:-//Zsidó Kiválóságok Háza - ECPv4.6.16//NONSGML v1.0//EN
CALSCALE:GREGORIAN
METHOD:PUBLISH
X-WR-CALNAME:Zsidó Kiválóságok Háza
X-ORIGINAL-URL:https://www.zsidokivalosagok.hu
X-WR-CALDESC:Events for Zsidó Kiválóságok Háza
BEGIN:VEVENT
DTSTART;TZID=UTC+2:20190517T170000
DTEND;TZID=UTC+2:20190517T180000
DTSTAMP:20260424T023856
CREATED:20190420T081427Z
LAST-MODIFIED:20190502T112033Z
UID:18112-1558112400-1558116000@www.zsidokivalosagok.hu
SUMMARY:Tudolvasmányok könyvklub
DESCRIPTION:Pázmány József vendége dr. Kiszely Pál előadásában mesél Dawkins: Az önző gén című könyvről. \n \nAz előadás ingyenes\, de foglaláshoz kötött! \nHelyfoglalás \n
URL:https://www.zsidokivalosagok.hu/event/tudolvasmanyok-konyvklub-2/
END:VEVENT
END:VCALENDAR