BEGIN:VCALENDAR
VERSION:2.0
PRODID:-//Zsidó Kiválóságok Háza - ECPv4.6.16//NONSGML v1.0//EN
CALSCALE:GREGORIAN
METHOD:PUBLISH
X-WR-CALNAME:Zsidó Kiválóságok Háza
X-ORIGINAL-URL:https://www.zsidokivalosagok.hu
X-WR-CALDESC:Events for Zsidó Kiválóságok Háza
BEGIN:VEVENT
DTSTART;TZID=UTC+2:20190222T190000
DTEND;TZID=UTC+2:20190222T200000
DTSTAMP:20260423T122058
CREATED:20190108T133005Z
LAST-MODIFIED:20190213T100144Z
UID:17902-1550862000-1550865600@www.zsidokivalosagok.hu
SUMMARY:Tudolvasmányok Könyvklub
DESCRIPTION:A Tudolvasmányok könyvklub keretein belül Norman Doidge A változó agy – elképesztő történetek az agykutatás élvonalából című könyvről Pázmány József vendégeként tart előadást Viola Erzsébet zenetanár\, aki részben a könyv hatására és eszközeivel fejleszti tudását a zeneterápia területén \n \nAz előadás ingyenes\, de foglaláshoz kötött. Helyeket foglalni az alábbi a linken\, valamint a helyszínen lehet. \n
URL:https://www.zsidokivalosagok.hu/event/tudolvasmanyok-konyvklub/
END:VEVENT
END:VCALENDAR