BEGIN:VCALENDAR
VERSION:2.0
PRODID:-//Zsidó Kiválóságok Háza - ECPv4.6.16//NONSGML v1.0//EN
CALSCALE:GREGORIAN
METHOD:PUBLISH
X-WR-CALNAME:Zsidó Kiválóságok Háza
X-ORIGINAL-URL:https://www.zsidokivalosagok.hu
X-WR-CALDESC:Events for Zsidó Kiválóságok Háza
BEGIN:VEVENT
DTSTART;TZID=UTC+2:20190214T120000
DTEND;TZID=UTC+2:20190216T200000
DTSTAMP:20260423T173446
CREATED:20190213T085429Z
LAST-MODIFIED:20190213T085429Z
UID:18009-1550145600-1550347200@www.zsidokivalosagok.hu
SUMMARY:Valentin napi kedvezmények
DESCRIPTION:Sok szeretettel várjuk a kiállításunkra február 14. és 17. közt belépőjegyet váltó látogatóinkat. \n \n
URL:https://www.zsidokivalosagok.hu/event/valentin-napi-kedvezmenyek/
END:VEVENT
END:VCALENDAR