BEGIN:VCALENDAR
VERSION:2.0
PRODID:-//Zsidó Kiválóságok Háza - ECPv4.6.16//NONSGML v1.0//EN
CALSCALE:GREGORIAN
METHOD:PUBLISH
X-WR-CALNAME:Zsidó Kiválóságok Háza
X-ORIGINAL-URL:https://www.zsidokivalosagok.hu
X-WR-CALDESC:Events for Zsidó Kiválóságok Háza
BEGIN:VEVENT
DTSTART;VALUE=DATE:20190118
DTEND;VALUE=DATE:20190121
DTSTAMP:20260423T184558
CREATED:20190108T132243Z
LAST-MODIFIED:20190111T103144Z
UID:17896-1547776800-1547949599@www.zsidokivalosagok.hu
SUMMARY:Vince-Napi Borünnep
DESCRIPTION:A Füredi Szüreti Fesztivál ideje alatt nagy népszerűségnek örvendett a kóser bor kóstolás\, így\na Vince-Napi Borünnep alkalmával ismét szeretnénk egy pohár kóser borral kedveskedni minden belépőjegyet váltó látogatónknak. Sok szeretettel várjuk minden régi és új látogatónkat\, akik a hasznosat szívesen összekötik az újdonsággal\, különlegességgel. \n
URL:https://www.zsidokivalosagok.hu/event/vince-napi-borunnep/
END:VEVENT
END:VCALENDAR